BEGIN:VCALENDAR
VERSION:2.0
PRODID:-//www.gramonet.cz//GramonetCalLib 1.0//EN
CALSCALE:GREGORIAN
METHOD:PUBLISH
BEGIN:VEVENT
SUMMARY:Podzim na vsi
LOCATION:Muzeu lidových staveb Kouřim
DTSTART:20230930T000000
DTEND:20231001T000000
UID:2026-04-19-19-32-10@infocaslav.cz
DTSTAMP:20260419T173210
Description:Národopisný pořad Podzim na vsi se bude konat v sobotu 30. z
 áří 2023 v Muzeu lidových staveb Kouřim od 10 do 17 hodin.\nJde o pre
 miérový pořad\, který návštěvníkům představí běžný život na
  české vesnici - obyčeje\, řemesla i podzimní zemědělské práce.
END:VEVENT
END:VCALENDAR
