BEGIN:VCALENDAR
VERSION:2.0
PRODID:-//www.gramonet.cz//GramonetCalLib 1.0//EN
CALSCALE:GREGORIAN
METHOD:PUBLISH
BEGIN:VEVENT
SUMMARY:Podzimní turistický výlet
LOCATION:Kačina
DTSTART:20221026T000000
DTEND:20221027T000000
UID:2026-04-19-19-34-50@infocaslav.cz
DTSTAMP:20260419T173450
Description:
END:VEVENT
END:VCALENDAR
