BEGIN:VCALENDAR
VERSION:2.0
PRODID:-//www.gramonet.cz//GramonetCalLib 1.0//EN
CALSCALE:GREGORIAN
METHOD:PUBLISH
BEGIN:VEVENT
SUMMARY:Pohádka pro děti - Mrazík
LOCATION:Kulturní dům Třemošnice
DTSTART:20240114T000000
DTEND:20240115T000000
UID:2026-04-19-19-34-20@infocaslav.cz
DTSTAMP:20260419T173420
Description:
END:VEVENT
END:VCALENDAR
