BEGIN:VCALENDAR
VERSION:2.0
PRODID:-//www.gramonet.cz//GramonetCalLib 1.0//EN
CALSCALE:GREGORIAN
METHOD:PUBLISH
BEGIN:VEVENT
SUMMARY:Pohádková dívčí noc
LOCATION:Dům dětí a mládeže Čáslav, Jeníkovská 222
DTSTART:20220305T000000
DTEND:20220307T000000
UID:2026-04-19-19-32-40@infocaslav.cz
DTSTAMP:20260419T173240
Description:
END:VEVENT
END:VCALENDAR
