BEGIN:VCALENDAR
VERSION:2.0
PRODID:-//www.gramonet.cz//GramonetCalLib 1.0//EN
CALSCALE:GREGORIAN
METHOD:PUBLISH
BEGIN:VEVENT
SUMMARY:Pohádkový les
LOCATION:Zbýšov
DTSTART:20220917T000000
DTEND:20220918T000000
UID:2026-04-19-19-31-22@infocaslav.cz
DTSTAMP:20260419T173122
Description:
END:VEVENT
END:VCALENDAR
