BEGIN:VCALENDAR
VERSION:2.0
PRODID:-//www.gramonet.cz//GramonetCalLib 1.0//EN
CALSCALE:GREGORIAN
METHOD:PUBLISH
BEGIN:VEVENT
SUMMARY:Pohádkový les
LOCATION:Lesopark Vodranty
DTSTART:20220529T000000
DTEND:20220530T000000
UID:2026-04-19-19-30-59@infocaslav.cz
DTSTAMP:20260419T173059
Description:
END:VEVENT
END:VCALENDAR
