BEGIN:VCALENDAR
VERSION:2.0
PRODID:-//www.gramonet.cz//GramonetCalLib 1.0//EN
CALSCALE:GREGORIAN
METHOD:PUBLISH
BEGIN:VEVENT
SUMMARY:Pohádkový průvod
LOCATION:Vrdy
DTSTART:20240817T000000
DTEND:20240818T000000
UID:2026-04-19-19-33-06@infocaslav.cz
DTSTAMP:20260419T173306
Description:Pohádkový průvod doprovázený kočárem s koňmi bude vyjí
 ždět ve 13:45 od Kassu ( Dolní Bučice ).
END:VEVENT
END:VCALENDAR
