BEGIN:VCALENDAR
VERSION:2.0
PRODID:-//www.gramonet.cz//GramonetCalLib 1.0//EN
CALSCALE:GREGORIAN
METHOD:PUBLISH
BEGIN:VEVENT
SUMMARY:Pojďte to s námi rozjet!
LOCATION:Čáslavská muzeální dráha, ul. Pražský z přejezdu P10049
DTSTART:20250517T000000
DTEND:20250519T000000
UID:2026-04-19-19-35-56@infocaslav.cz
DTSTAMP:20260419T173556
Description:
END:VEVENT
END:VCALENDAR
