BEGIN:VCALENDAR
VERSION:2.0
PRODID:-//www.gramonet.cz//GramonetCalLib 1.0//EN
CALSCALE:GREGORIAN
METHOD:PUBLISH
BEGIN:VEVENT
SUMMARY:Pokáčovo jaro 2024
LOCATION:Hotel Grand
DTSTART:20240203T000000
DTEND:20240204T000000
UID:2026-04-19-21-06-09@infocaslav.cz
DTSTAMP:20260419T190609
Description:
END:VEVENT
END:VCALENDAR
