BEGIN:VCALENDAR
VERSION:2.0
PRODID:-//www.gramonet.cz//GramonetCalLib 1.0//EN
CALSCALE:GREGORIAN
METHOD:PUBLISH
BEGIN:VEVENT
SUMMARY:Porsche sraz
LOCATION:Žižkovo náměstí, Čáslav
DTSTART:20220723T000000
DTEND:20220724T000000
UID:2026-04-19-21-02-22@infocaslav.cz
DTSTAMP:20260419T190222
Description:
END:VEVENT
END:VCALENDAR
