BEGIN:VCALENDAR
VERSION:2.0
PRODID:-//www.gramonet.cz//GramonetCalLib 1.0//EN
CALSCALE:GREGORIAN
METHOD:PUBLISH
BEGIN:VEVENT
SUMMARY:Poslední noc v Soho
LOCATION:Kino Miloše Formana, Jeníkovská 138/25
DTSTART:20220129T000000
DTEND:20220130T000000
UID:2026-04-19-21-05-37@infocaslav.cz
DTSTAMP:20260419T190537
Description:
END:VEVENT
END:VCALENDAR
