BEGIN:VCALENDAR
VERSION:2.0
PRODID:-//www.gramonet.cz//GramonetCalLib 1.0//EN
CALSCALE:GREGORIAN
METHOD:PUBLISH
BEGIN:VEVENT
SUMMARY:Poslední souboj
LOCATION:Divadelní dvůr Čáslav, UDVOU
DTSTART:20250830T000000
DTEND:20250831T000000
UID:2026-04-19-20-58-40@infocaslav.cz
DTSTAMP:20260419T185840
Description:
END:VEVENT
END:VCALENDAR
