BEGIN:VCALENDAR
VERSION:2.0
PRODID:-//www.gramonet.cz//GramonetCalLib 1.0//EN
CALSCALE:GREGORIAN
METHOD:PUBLISH
BEGIN:VEVENT
SUMMARY:Postní večery
LOCATION:Bašta za evangelickým kostelem
DTSTART:20240228T000000
DTEND:20240229T000000
UID:2026-04-19-19-29-35@infocaslav.cz
DTSTAMP:20260419T172935
Description:
END:VEVENT
END:VCALENDAR
