BEGIN:VCALENDAR
VERSION:2.0
PRODID:-//www.gramonet.cz//GramonetCalLib 1.0//EN
CALSCALE:GREGORIAN
METHOD:PUBLISH
BEGIN:VEVENT
SUMMARY:Posvěcení nově-zrekonstruovaných varhan
LOCATION:Kostel sv. Marka v Žehušicích
DTSTART:20240629T000000
DTEND:20240630T000000
UID:2026-04-19-19-36-14@infocaslav.cz
DTSTAMP:20260419T173614
Description:Farnost Chotusice a městys Žehušice Vás srdečně zvou na \
 ,\,Posvěcení nově-zrekonstruovaných varhan" dne 29.6.2024 od 13:30 hod
 in v kostele sv. Marka v Žehušicích.
END:VEVENT
END:VCALENDAR
