BEGIN:VCALENDAR
VERSION:2.0
PRODID:-//www.gramonet.cz//GramonetCalLib 1.0//EN
CALSCALE:GREGORIAN
METHOD:PUBLISH
BEGIN:VEVENT
SUMMARY:Potravinová sbírka
LOCATION:Evangelický kostel Čáslav
DTSTART:20241006T000000
DTEND:20241007T000000
UID:2026-04-19-19-32-56@infocaslav.cz
DTSTAMP:20260419T173256
Description:Potraviny\, balené vody\, hygienické a čistící prostředky
  můžete nosit do Evangelického kostela v Čáslavi v neděli 6.10. 2024
  od 8:30 - 8:45 a 10-11 hod. Sbírka bude dopravena do Potravinové banky 
 Vysočina v Ledči nad Sázavou.
END:VEVENT
END:VCALENDAR
