BEGIN:VCALENDAR
VERSION:2.0
PRODID:-//www.gramonet.cz//GramonetCalLib 1.0//EN
CALSCALE:GREGORIAN
METHOD:PUBLISH
BEGIN:VEVENT
SUMMARY:Poutní slavnost sv. Petra a Pavla
LOCATION:Kostel sv. Petra a Pavla
DTSTART:20240629T000000
DTEND:20240630T000000
UID:2026-04-19-21-07-17@infocaslav.cz
DTSTAMP:20260419T190717
Description:Římskokatolická farnost – děkanství Čáslav zve srdečn
 ě na sobotu 29. 6. od 9:30 na mši svatou s apoštolským nunciem\, kter
 m je pro Českou republiku jmenován od 1. 5. 2022 Jude Thaddeus Okolo. P
 o mši bude probíhat i společné setkání na faře.
END:VEVENT
END:VCALENDAR
