BEGIN:VCALENDAR
VERSION:2.0
PRODID:-//www.gramonet.cz//GramonetCalLib 1.0//EN
CALSCALE:GREGORIAN
METHOD:PUBLISH
BEGIN:VEVENT
SUMMARY:Poutníci - Koncert ‚‚55 let na country scéně"
LOCATION:Dusíkovo divadlo Čáslav
DTSTART:20250410T000000
DTEND:20250411T000000
UID:2026-04-19-21-23-53@infocaslav.cz
DTSTAMP:20260419T192353
Description:
END:VEVENT
END:VCALENDAR
