BEGIN:VCALENDAR
VERSION:2.0
PRODID:-//www.gramonet.cz//GramonetCalLib 1.0//EN
CALSCALE:GREGORIAN
METHOD:PUBLISH
BEGIN:VEVENT
SUMMARY:Povídání o Galapágách a jiných koutech světa - Ing. Hynek Da
 řbujan
LOCATION:Gumárna
DTSTART:20220921T000000
DTEND:20220922T000000
UID:2026-04-19-19-37-22@infocaslav.cz
DTSTAMP:20260419T173722
Description:
END:VEVENT
END:VCALENDAR
