BEGIN:VCALENDAR
VERSION:2.0
PRODID:-//www.gramonet.cz//GramonetCalLib 1.0//EN
CALSCALE:GREGORIAN
METHOD:PUBLISH
BEGIN:VEVENT
SUMMARY:POVÍDÁNÍ O PEJSKOVI A KOČIČCE
LOCATION:Dusíkovo divadlo Čáslav, Masarykova 194/36
DTSTART:20220123T000000
DTEND:20220124T000000
UID:2026-04-19-19-36-46@infocaslav.cz
DTSTAMP:20260419T173646
Description:
END:VEVENT
END:VCALENDAR
