BEGIN:VCALENDAR
VERSION:2.0
PRODID:-//www.gramonet.cz//GramonetCalLib 1.0//EN
CALSCALE:GREGORIAN
METHOD:PUBLISH
BEGIN:VEVENT
SUMMARY:Pradědečkův traktor
LOCATION:Zemědělské muzeum
DTSTART:20230603T000000
DTEND:20230605T000000
UID:2026-04-19-19-26-22@infocaslav.cz
DTSTAMP:20260419T172622
Description:
END:VEVENT
END:VCALENDAR
