BEGIN:VCALENDAR
VERSION:2.0
PRODID:-//www.gramonet.cz//GramonetCalLib 1.0//EN
CALSCALE:GREGORIAN
METHOD:PUBLISH
BEGIN:VEVENT
SUMMARY:Pradědečkův traktor
LOCATION:Jeníkovská 1762, 286 01 Čáslav
DTSTART:20240601T000000
DTEND:20240603T000000
UID:2026-04-19-20-57-34@infocaslav.cz
DTSTAMP:20260419T185734
Description:
END:VEVENT
END:VCALENDAR
