BEGIN:VCALENDAR
VERSION:2.0
PRODID:-//www.gramonet.cz//GramonetCalLib 1.0//EN
CALSCALE:GREGORIAN
METHOD:PUBLISH
BEGIN:VEVENT
SUMMARY:Pradědečkův traktor
LOCATION:Národní zemědělské muzeum Čáslav, Jeníkovská 1762
DTSTART:20220604T000000
DTEND:20220606T000000
UID:2026-04-19-21-02-29@infocaslav.cz
DTSTAMP:20260419T190229
Description:
END:VEVENT
END:VCALENDAR
