BEGIN:VCALENDAR
VERSION:2.0
PRODID:-//www.gramonet.cz//GramonetCalLib 1.0//EN
CALSCALE:GREGORIAN
METHOD:PUBLISH
BEGIN:VEVENT
SUMMARY:Přání k narozeninám
LOCATION:Kino
DTSTART:20230217T000000
DTEND:20230218T000000
UID:2026-04-19-21-05-37@infocaslav.cz
DTSTAMP:20260419T190537
Description:
END:VEVENT
END:VCALENDAR
