BEGIN:VCALENDAR
VERSION:2.0
PRODID:-//www.gramonet.cz//GramonetCalLib 1.0//EN
CALSCALE:GREGORIAN
METHOD:PUBLISH
BEGIN:VEVENT
SUMMARY:KINO POD ŠIRÁKEM - PŘÁNÍ K NAROZENINÁM
LOCATION:Dusíkovo divadlo
DTSTART:20230710T000000
DTEND:20230711T000000
UID:2026-04-19-19-33-33@infocaslav.cz
DTSTAMP:20260419T173333
Description:
END:VEVENT
END:VCALENDAR
