BEGIN:VCALENDAR
VERSION:2.0
PRODID:-//www.gramonet.cz//GramonetCalLib 1.0//EN
CALSCALE:GREGORIAN
METHOD:PUBLISH
BEGIN:VEVENT
SUMMARY:Přání
LOCATION:Dusíkovo divadlo Čáslav
DTSTART:20250528T000000
DTEND:20250529T000000
UID:2026-04-19-19-28-47@infocaslav.cz
DTSTAMP:20260419T172847
Description:
END:VEVENT
END:VCALENDAR
