BEGIN:VCALENDAR
VERSION:2.0
PRODID:-//www.gramonet.cz//GramonetCalLib 1.0//EN
CALSCALE:GREGORIAN
METHOD:PUBLISH
BEGIN:VEVENT
SUMMARY:Prázdniny s Olafem
LOCATION:Dům dětí a mládeže Čáslav, Jeníkovská 222
DTSTART:20220204T000000
DTEND:20220205T000000
UID:2026-04-19-21-03-21@infocaslav.cz
DTSTAMP:20260419T190321
Description:
END:VEVENT
END:VCALENDAR
