BEGIN:VCALENDAR
VERSION:2.0
PRODID:-//www.gramonet.cz//GramonetCalLib 1.0//EN
CALSCALE:GREGORIAN
METHOD:PUBLISH
BEGIN:VEVENT
SUMMARY:Přednáška kutnohorské skladatelky Z. Chalupové
LOCATION:Nová scéna Dusíkova divadla
DTSTART:20231017T000000
DTEND:20231018T000000
UID:2026-04-19-19-37-20@infocaslav.cz
DTSTAMP:20260419T173720
Description:
END:VEVENT
END:VCALENDAR
