BEGIN:VCALENDAR
VERSION:2.0
PRODID:-//www.gramonet.cz//GramonetCalLib 1.0//EN
CALSCALE:GREGORIAN
METHOD:PUBLISH
BEGIN:VEVENT
SUMMARY:Přednáška Mgr. Anny Boučkové - Architekt Bohumír Kozák a Č
 slav
LOCATION:Nová scéna Dusíkova divadla Čáslav
DTSTART:20251007T000000
DTEND:20251008T000000
UID:2026-04-19-19-28-01@infocaslav.cz
DTSTAMP:20260419T172801
Description:
END:VEVENT
END:VCALENDAR
