BEGIN:VCALENDAR
VERSION:2.0
PRODID:-//www.gramonet.cz//GramonetCalLib 1.0//EN
CALSCALE:GREGORIAN
METHOD:PUBLISH
BEGIN:VEVENT
SUMMARY:Přednáška PhDr. Petry Bělohlávkové, PhD. - Stanislav Mach
LOCATION:Nová scéna Dusíkova divadla Čáslav
DTSTART:20251111T000000
DTEND:20251112T000000
UID:2026-04-19-21-09-32@infocaslav.cz
DTSTAMP:20260419T190932
Description:
END:VEVENT
END:VCALENDAR
