BEGIN:VCALENDAR
VERSION:2.0
PRODID:-//www.gramonet.cz//GramonetCalLib 1.0//EN
CALSCALE:GREGORIAN
METHOD:PUBLISH
BEGIN:VEVENT
SUMMARY:Přednáška prof. PhDr. Marie Bláhové, Dr.Sc. - Kronika tak ře
 eného Dalimila
LOCATION:Dusíkovo divadlo - Nová scéna
DTSTART:20240213T000000
DTEND:20240214T000000
UID:2026-04-19-19-37-22@infocaslav.cz
DTSTAMP:20260419T173722
Description:
END:VEVENT
END:VCALENDAR
