BEGIN:VCALENDAR
VERSION:2.0
PRODID:-//www.gramonet.cz//GramonetCalLib 1.0//EN
CALSCALE:GREGORIAN
METHOD:PUBLISH
BEGIN:VEVENT
SUMMARY:Přednáška - Rozdělená společnost, rozdělená církev
LOCATION:Evangelická fara Čáslav – Komenského síň
DTSTART:20240208T000000
DTEND:20240209T000000
UID:2026-04-19-21-25-16@infocaslav.cz
DTSTAMP:20260419T192516
Description:
END:VEVENT
END:VCALENDAR
