BEGIN:VCALENDAR
VERSION:2.0
PRODID:-//www.gramonet.cz//GramonetCalLib 1.0//EN
CALSCALE:GREGORIAN
METHOD:PUBLISH
BEGIN:VEVENT
SUMMARY:Přednáška - Vápenky a vápenictví na Kutnohorsku
LOCATION:Nová scéna Dusíkova divadla
DTSTART:20241119T000000
DTEND:20241120T000000
UID:2026-04-19-19-37-24@infocaslav.cz
DTSTAMP:20260419T173724
Description:
END:VEVENT
END:VCALENDAR
