BEGIN:VCALENDAR
VERSION:2.0
PRODID:-//www.gramonet.cz//GramonetCalLib 1.0//EN
CALSCALE:GREGORIAN
METHOD:PUBLISH
BEGIN:VEVENT
SUMMARY:Přehlídka škol Kolín
LOCATION:Městský společenský dům v Kolíně
DTSTART:20251013T000000
DTEND:20251015T000000
UID:2026-04-19-19-26-09@infocaslav.cz
DTSTAMP:20260419T172609
Description:
END:VEVENT
END:VCALENDAR
