BEGIN:VCALENDAR
VERSION:2.0
PRODID:-//www.gramonet.cz//GramonetCalLib 1.0//EN
CALSCALE:GREGORIAN
METHOD:PUBLISH
BEGIN:VEVENT
SUMMARY:PŘEHRADY FEST 2024
LOCATION:Seč
DTSTART:20240823T000000
DTEND:20240825T000000
UID:2026-04-19-19-31-20@infocaslav.cz
DTSTAMP:20260419T173120
Description:Sedmý ročník Přehrady FESTU zakončí svou pouť na konci l
 etních prázdnin v Autokempu Seč Pláž. Divokej Bill\, Jelen\, Pokáč\
 , Pekař\, Poletíme\, UDG a mnoho dalších na Přehradách.
END:VEVENT
END:VCALENDAR
