BEGIN:VCALENDAR
VERSION:2.0
PRODID:-//www.gramonet.cz//GramonetCalLib 1.0//EN
CALSCALE:GREGORIAN
METHOD:PUBLISH
BEGIN:VEVENT
SUMMARY:Premiéra filmu Operace ONTERO: 3. díl 1938 - 1945
LOCATION:Kino Miloše Formana
DTSTART:20250311T000000
DTEND:20250312T000000
UID:2026-04-19-21-08-34@infocaslav.cz
DTSTAMP:20260419T190834
Description:Dne 11. března od 18:00 se v Kině Miloše Formana uskuteční
  premiéra dokumentárního filmu s názvem Operace ONTERO - 3. díl (1938
 -1945). Vstupné je dobrovolné.
END:VEVENT
END:VCALENDAR
