BEGIN:VCALENDAR
VERSION:2.0
PRODID:-//www.gramonet.cz//GramonetCalLib 1.0//EN
CALSCALE:GREGORIAN
METHOD:PUBLISH
BEGIN:VEVENT
SUMMARY:Příběh Mince
LOCATION:Vlašský dvůr - Kutná Hora
DTSTART:20240614T000000
DTEND:20240907T000000
UID:2026-04-19-19-29-51@infocaslav.cz
DTSTAMP:20260419T172951
Description:Již po třetí!!! Venkovní scénické představení plné taj
 uplné atmosféry\, tance\, zpěvu i ohně vás provede milníky historie 
 pověstných kutnohorských mincí. Přijďte se dozvědět více o jedine
 čné mincovně českých králů a zažít mystický večer na nádvoří
  Vlašského dvora.
END:VEVENT
END:VCALENDAR
