BEGIN:VCALENDAR
VERSION:2.0
PRODID:-//www.gramonet.cz//GramonetCalLib 1.0//EN
CALSCALE:GREGORIAN
METHOD:PUBLISH
BEGIN:VEVENT
SUMMARY:Příběhy našich sousedů Kutnohorsko
LOCATION:Gask, Kutná Hora
DTSTART:20250324T000000
DTEND:20250325T000000
UID:2026-04-19-21-22-50@infocaslav.cz
DTSTAMP:20260419T192250
Description:
END:VEVENT
END:VCALENDAR
