BEGIN:VCALENDAR
VERSION:2.0
PRODID:-//www.gramonet.cz//GramonetCalLib 1.0//EN
CALSCALE:GREGORIAN
METHOD:PUBLISH
BEGIN:VEVENT
SUMMARY:Princezna zakletá v čase 2
LOCATION:Kino
DTSTART:20221125T000000
DTEND:20221127T000000
UID:2026-04-19-19-36-01@infocaslav.cz
DTSTAMP:20260419T173601
Description:
END:VEVENT
END:VCALENDAR
