BEGIN:VCALENDAR
VERSION:2.0
PRODID:-//www.gramonet.cz//GramonetCalLib 1.0//EN
CALSCALE:GREGORIAN
METHOD:PUBLISH
BEGIN:VEVENT
SUMMARY:Princezna zakletá v čase 2
LOCATION:Kino
DTSTART:20221115T000000
DTEND:20221116T000000
UID:2026-04-19-19-35-43@infocaslav.cz
DTSTAMP:20260419T173543
Description:
END:VEVENT
END:VCALENDAR
