BEGIN:VCALENDAR
VERSION:2.0
PRODID:-//www.gramonet.cz//GramonetCalLib 1.0//EN
CALSCALE:GREGORIAN
METHOD:PUBLISH
BEGIN:VEVENT
SUMMARY:Připomínka 17. listopadu 1939 a 1989
LOCATION:Pomník obětem válek a bezpráví
DTSTART:20241117T000000
DTEND:20241118T000000
UID:2026-04-19-19-36-50@infocaslav.cz
DTSTAMP:20260419T173650
Description:
END:VEVENT
END:VCALENDAR
