BEGIN:VCALENDAR
VERSION:2.0
PRODID:-//www.gramonet.cz//GramonetCalLib 1.0//EN
CALSCALE:GREGORIAN
METHOD:PUBLISH
BEGIN:VEVENT
SUMMARY:Připomínka 80. výročí konce 2. Světové války u Čáslavský
 ch pamětních desek obětem 2. Světové války
LOCATION:Sokolovna Čáslav
DTSTART:20251008T000000
DTEND:20251009T000000
UID:2026-04-19-19-37-16@infocaslav.cz
DTSTAMP:20260419T173716
Description:Připomínka ve středu 8. října 2025 v 18:00 hodin v rámci 
 Noci sokolských světel - Památného dne Sokolstva proběhne pietní akt
  u pamětní desky a průvod s dětmi městem k pouštění lodiček.
END:VEVENT
END:VCALENDAR
