BEGIN:VCALENDAR
VERSION:2.0
PRODID:-//www.gramonet.cz//GramonetCalLib 1.0//EN
CALSCALE:GREGORIAN
METHOD:PUBLISH
BEGIN:VEVENT
SUMMARY:Připomínka 80. výročí konce 2. Světové války u Čáslavský
 ch pamětních desek obětem 2. Světové války
LOCATION:Čáslav
DTSTART:20250507T000000
DTEND:20250521T000000
UID:2026-04-19-19-37-17@infocaslav.cz
DTSTAMP:20260419T173717
Description:
END:VEVENT
END:VCALENDAR
