BEGIN:VCALENDAR
VERSION:2.0
PRODID:-//www.gramonet.cz//GramonetCalLib 1.0//EN
CALSCALE:GREGORIAN
METHOD:PUBLISH
BEGIN:VEVENT
SUMMARY:Příšerákovi 2
LOCATION:Kino Miloše Formana, Jeníkovská 138, Nové Město, 286 01 Čás
 lav
DTSTART:20220326T000000
DTEND:20220327T000000
UID:2026-04-19-19-28-44@infocaslav.cz
DTSTAMP:20260419T172844
Description:
END:VEVENT
END:VCALENDAR
