BEGIN:VCALENDAR
VERSION:2.0
PRODID:-//www.gramonet.cz//GramonetCalLib 1.0//EN
CALSCALE:GREGORIAN
METHOD:PUBLISH
BEGIN:VEVENT
SUMMARY:PŘÍVÍTEJME SPOLEČNĚ VELKÉ PRÁZDNINY
LOCATION:Letní koupaliště Vodranty
DTSTART:20240706T000000
DTEND:20240707T000000
UID:2026-04-19-19-34-15@infocaslav.cz
DTSTAMP:20260419T173415
Description:
END:VEVENT
END:VCALENDAR
