BEGIN:VCALENDAR
VERSION:2.0
PRODID:-//www.gramonet.cz//GramonetCalLib 1.0//EN
CALSCALE:GREGORIAN
METHOD:PUBLISH
BEGIN:VEVENT
SUMMARY:Procházka Čáslaví podle Willenbergovy rytiny
LOCATION:Nová scéna Dusíkova divadla
DTSTART:20250114T000000
DTEND:20250115T000000
UID:2026-04-19-19-34-36@infocaslav.cz
DTSTAMP:20260419T173436
Description:
END:VEVENT
END:VCALENDAR
