BEGIN:VCALENDAR
VERSION:2.0
PRODID:-//www.gramonet.cz//GramonetCalLib 1.0//EN
CALSCALE:GREGORIAN
METHOD:PUBLISH
BEGIN:VEVENT
SUMMARY:Proměna
LOCATION:Kino Miloše Formana, Jeníkovská 138/25, 28601
DTSTART:20220430T000000
DTEND:20220501T000000
UID:2026-04-19-21-00-17@infocaslav.cz
DTSTAMP:20260419T190017
Description:
END:VEVENT
END:VCALENDAR
