BEGIN:VCALENDAR
VERSION:2.0
PRODID:-//www.gramonet.cz//GramonetCalLib 1.0//EN
CALSCALE:GREGORIAN
METHOD:PUBLISH
BEGIN:VEVENT
SUMMARY:PSH Nekonečný příběh
LOCATION:Kino
DTSTART:20221102T000000
DTEND:20221103T000000
UID:2026-04-19-19-33-53@infocaslav.cz
DTSTAMP:20260419T173353
Description:
END:VEVENT
END:VCALENDAR
