BEGIN:VCALENDAR
VERSION:2.0
PRODID:-//www.gramonet.cz//GramonetCalLib 1.0//EN
CALSCALE:GREGORIAN
METHOD:PUBLISH
BEGIN:VEVENT
SUMMARY:Ptačí hodinka
LOCATION:Zahrada městského muzea Čáslav
DTSTART:20240106T000000
DTEND:20240107T000000
UID:2026-04-19-19-29-41@infocaslav.cz
DTSTAMP:20260419T172941
Description:
END:VEVENT
END:VCALENDAR
