BEGIN:VCALENDAR
VERSION:2.0
PRODID:-//www.gramonet.cz//GramonetCalLib 1.0//EN
CALSCALE:GREGORIAN
METHOD:PUBLISH
BEGIN:VEVENT
SUMMARY:Pub Quiz Extra - Muži vs Ženy
LOCATION:Gumárna, K. Pazderského 2045
DTSTART:20220528T000000
DTEND:20220529T000000
UID:2026-04-19-19-33-26@infocaslav.cz
DTSTAMP:20260419T173326
Description:
END:VEVENT
END:VCALENDAR
