BEGIN:VCALENDAR
VERSION:2.0
PRODID:-//www.gramonet.cz//GramonetCalLib 1.0//EN
CALSCALE:GREGORIAN
METHOD:PUBLISH
BEGIN:VEVENT
SUMMARY:Pub Quiz Extra - Pán Prstenů
LOCATION:Gumárna
DTSTART:20221111T000000
DTEND:20221112T000000
UID:2026-04-19-19-31-17@infocaslav.cz
DTSTAMP:20260419T173117
Description:
END:VEVENT
END:VCALENDAR
